BEGIN:VCALENDAR
VERSION:2.0
PRODID:-//ChamberMaster//Event Calendar 2.0//EN
METHOD:PUBLISH
X-PUBLISHED-TTL:P3D
REFRESH-INTERVAL:P3D
CALSCALE:GREGORIAN
BEGIN:VEVENT
DTSTART:20260115T170000Z
DTEND:20260115T190000Z
X-MICROSOFT-CDO-ALLDAYEVENT:FALSE
SUMMARY:2026 State of the City- Lancaster\, TX
DESCRIPTION:
X-ALT-DESC;FMTTYPE=text/html:
LOCATION:Grand Hall Banquet Facility 1700 Veteran Memorial Parkway Lancaster\, TX 75146
UID:e.3319.681
SEQUENCE:3
DTSTAMP:20260421T163757Z
URL:https://business.ipachambertx.org/events/details/2026-state-of-the-city-681
END:VEVENT

END:VCALENDAR
